BEGIN:VCALENDAR
VERSION:2.0
PRODID:-//Live - HGV Careers - ECPv6.15.12.2//NONSGML v1.0//EN
CALSCALE:GREGORIAN
METHOD:PUBLISH
X-WR-CALNAME:Live - HGV Careers
X-ORIGINAL-URL:https://careers.hgv.com
X-WR-CALDESC:Events for Live - HGV Careers
REFRESH-INTERVAL;VALUE=DURATION:PT1H
X-Robots-Tag:noindex
X-PUBLISHED-TTL:PT1H
BEGIN:VTIMEZONE
TZID:America/New_York
BEGIN:DAYLIGHT
TZOFFSETFROM:-0500
TZOFFSETTO:-0400
TZNAME:EDT
DTSTART:20170312T070000
END:DAYLIGHT
BEGIN:STANDARD
TZOFFSETFROM:-0400
TZOFFSETTO:-0500
TZNAME:EST
DTSTART:20171105T060000
END:STANDARD
BEGIN:DAYLIGHT
TZOFFSETFROM:-0500
TZOFFSETTO:-0400
TZNAME:EDT
DTSTART:20180311T070000
END:DAYLIGHT
BEGIN:STANDARD
TZOFFSETFROM:-0400
TZOFFSETTO:-0500
TZNAME:EST
DTSTART:20181104T060000
END:STANDARD
BEGIN:DAYLIGHT
TZOFFSETFROM:-0500
TZOFFSETTO:-0400
TZNAME:EDT
DTSTART:20190310T070000
END:DAYLIGHT
BEGIN:STANDARD
TZOFFSETFROM:-0400
TZOFFSETTO:-0500
TZNAME:EST
DTSTART:20191103T060000
END:STANDARD
END:VTIMEZONE
BEGIN:VEVENT
DTSTART;TZID=America/New_York:20180725T110000
DTEND;TZID=America/New_York:20180725T140000
DTSTAMP:20260425T171131
CREATED:20180717T050023Z
LAST-MODIFIED:20180717T050023Z
UID:30985-1532516400-1532527200@careers.hgv.com
SUMMARY:Nellis Air Force Base Job Fair — July 25\, 2018
DESCRIPTION:Join our at Nellis Air Force Base on July 25\, 2018 for the Airman & Family Readiness Center Employment Assistance Event Job Fair. Meet with our recruitment team to learn more about our current career opportunities in Las Vegas! \nWe’re currently hiring in the following areas: \n\nOutbound Sales \nCall Transfer \nGuest Services \nFood & Beverage \nMaintenance \nHousekeeping \n\nBring your resumes and other employment documents. \nDress to impress (military uniforms OK). \nWe look forward to meeting you there! \nFor more information\, contact A&FRC: 702.652\,3327 \nfacebook.com/NellisAirmanandFamily
URL:https://careers.hgv.com/event/nellis-air-force-base-job-fair-july-25-2018-8/
LOCATION:Nellis Air Force Base\, Community Commons\, 4311 Washington Blvd.\, Bldg 312\, Las Vegas\, NV\, 89191\, United States
GEO:36.2353191;-115.0479594
X-APPLE-STRUCTURED-LOCATION;VALUE=URI;X-ADDRESS=Nellis Air Force Base Community Commons 4311 Washington Blvd. Bldg 312 Las Vegas NV 89191 United States;X-APPLE-RADIUS=500;X-TITLE=4311 Washington Blvd.\, Bldg 312:geo:-115.0479594,36.2353191
END:VEVENT
END:VCALENDAR