BEGIN:VCALENDAR
VERSION:2.0
PRODID:-//Live - HGV Careers - ECPv6.15.12.2//NONSGML v1.0//EN
CALSCALE:GREGORIAN
METHOD:PUBLISH
X-WR-CALNAME:Live - HGV Careers
X-ORIGINAL-URL:https://careers.hgv.com
X-WR-CALDESC:Events for Live - HGV Careers
REFRESH-INTERVAL;VALUE=DURATION:PT1H
X-Robots-Tag:noindex
X-PUBLISHED-TTL:PT1H
BEGIN:VTIMEZONE
TZID:America/New_York
BEGIN:DAYLIGHT
TZOFFSETFROM:-0500
TZOFFSETTO:-0400
TZNAME:EDT
DTSTART:20190310T070000
END:DAYLIGHT
BEGIN:STANDARD
TZOFFSETFROM:-0400
TZOFFSETTO:-0500
TZNAME:EST
DTSTART:20191103T060000
END:STANDARD
BEGIN:DAYLIGHT
TZOFFSETFROM:-0500
TZOFFSETTO:-0400
TZNAME:EDT
DTSTART:20200308T070000
END:DAYLIGHT
BEGIN:STANDARD
TZOFFSETFROM:-0400
TZOFFSETTO:-0500
TZNAME:EST
DTSTART:20201101T060000
END:STANDARD
BEGIN:DAYLIGHT
TZOFFSETFROM:-0500
TZOFFSETTO:-0400
TZNAME:EDT
DTSTART:20210314T070000
END:DAYLIGHT
BEGIN:STANDARD
TZOFFSETFROM:-0400
TZOFFSETTO:-0500
TZNAME:EST
DTSTART:20211107T060000
END:STANDARD
END:VTIMEZONE
BEGIN:VEVENT
DTSTART;TZID=America/New_York:20200226T100000
DTEND;TZID=America/New_York:20200226T150000
DTSTAMP:20260419T200205
CREATED:20200220T165542Z
LAST-MODIFIED:20200220T165542Z
UID:18735-1582711200-1582729200@careers.hgv.com
SUMMARY:We're looking for Elite Vacation Sales Agents to join our growing BEST in the Class Teams!
DESCRIPTION:  \n  \nAre you diligent\, loves a challenge\, and is motivated to take charge of your financial future\, then you are the one we are looking for! \nDid you know that Hilton Grand Vacations offers a lucrative benefits package and discounted rates for you to travel the world. \nWant to find out more… then stop by our Hiring Event on \nWednesday\, February 26th\, 2020 \nFrom 10:00am – 3:00pm \n5555 W. Badura Ave. Suite 160 Las Vegas\, NV 89118 \nSuite 160 is located on S. Lindell Rd \nHilton Grand Vacations Las Vegas \nCall Center Recruitment team is looking forward to meeting you \nplease remember to dress for success and bring a resume
URL:https://careers.hgv.com/event/were-looking-for-elite-vacation-sales-agents-to-join-our-growing-best-in-the-class-teams/
LOCATION:Hilton Grand Vacations\, 5555 W. Badura Ave Suite 160\, Las Vegas\, NV
END:VEVENT
BEGIN:VEVENT
DTSTART;TZID=America/New_York:20200226T100000
DTEND;TZID=America/New_York:20200226T150000
DTSTAMP:20260419T200205
CREATED:20200220T165542Z
LAST-MODIFIED:20200220T165542Z
UID:28064-1582711200-1582729200@careers.hgv.com
SUMMARY:We're looking for Elite Vacation Sales Agents to join our growing BEST in the Class Teams!
DESCRIPTION:  \n  \nAre you diligent\, loves a challenge\, and is motivated to take charge of your financial future\, then you are the one we are looking for! \nDid you know that Hilton Grand Vacations offers a lucrative benefits package and discounted rates for you to travel the world. \nWant to find out more… then stop by our Hiring Event on \nWednesday\, February 26th\, 2020 \nFrom 10:00am – 3:00pm \n5555 W. Badura Ave. Suite 160 Las Vegas\, NV 89118 \nSuite 160 is located on S. Lindell Rd \nHilton Grand Vacations Las Vegas \nCall Center Recruitment team is looking forward to meeting you \nplease remember to dress for success and bring a resume
URL:https://careers.hgv.com/event/were-looking-for-elite-vacation-sales-agents-to-join-our-growing-best-in-the-class-teams-2/
LOCATION:Hilton Grand Vacations\, 5555 W. Badura Ave Suite 160\, Las Vegas\, NV
END:VEVENT
BEGIN:VEVENT
DTSTART;TZID=America/New_York:20200226T100000
DTEND;TZID=America/New_York:20200226T150000
DTSTAMP:20260419T200205
CREATED:20200220T165542Z
LAST-MODIFIED:20200220T165542Z
UID:31088-1582711200-1582729200@careers.hgv.com
SUMMARY:We're looking for Elite Vacation Sales Agents to join our growing BEST in the Class Teams!
DESCRIPTION:  \n  \nAre you diligent\, loves a challenge\, and is motivated to take charge of your financial future\, then you are the one we are looking for! \nDid you know that Hilton Grand Vacations offers a lucrative benefits package and discounted rates for you to travel the world. \nWant to find out more… then stop by our Hiring Event on \nWednesday\, February 26th\, 2020 \nFrom 10:00am – 3:00pm \n5555 W. Badura Ave. Suite 160 Las Vegas\, NV 89118 \nSuite 160 is located on S. Lindell Rd \nHilton Grand Vacations Las Vegas \nCall Center Recruitment team is looking forward to meeting you \nplease remember to dress for success and bring a resume
URL:https://careers.hgv.com/event/were-looking-for-elite-vacation-sales-agents-to-join-our-growing-best-in-the-class-teams-3/
LOCATION:Hilton Grand Vacations\, 5555 W. Badura Ave Suite 160\, Las Vegas\, NV
END:VEVENT
END:VCALENDAR