BEGIN:VCALENDAR
VERSION:2.0
PRODID:-//Live - HGV Careers - ECPv6.15.12.2//NONSGML v1.0//EN
CALSCALE:GREGORIAN
METHOD:PUBLISH
X-WR-CALNAME:Live - HGV Careers
X-ORIGINAL-URL:https://careers.hgv.com
X-WR-CALDESC:Events for Live - HGV Careers
REFRESH-INTERVAL;VALUE=DURATION:PT1H
X-Robots-Tag:noindex
X-PUBLISHED-TTL:PT1H
BEGIN:VTIMEZONE
TZID:America/New_York
BEGIN:DAYLIGHT
TZOFFSETFROM:-0500
TZOFFSETTO:-0400
TZNAME:EDT
DTSTART:20170312T070000
END:DAYLIGHT
BEGIN:STANDARD
TZOFFSETFROM:-0400
TZOFFSETTO:-0500
TZNAME:EST
DTSTART:20171105T060000
END:STANDARD
BEGIN:DAYLIGHT
TZOFFSETFROM:-0500
TZOFFSETTO:-0400
TZNAME:EDT
DTSTART:20180311T070000
END:DAYLIGHT
BEGIN:STANDARD
TZOFFSETFROM:-0400
TZOFFSETTO:-0500
TZNAME:EST
DTSTART:20181104T060000
END:STANDARD
BEGIN:DAYLIGHT
TZOFFSETFROM:-0500
TZOFFSETTO:-0400
TZNAME:EDT
DTSTART:20190310T070000
END:DAYLIGHT
BEGIN:STANDARD
TZOFFSETFROM:-0400
TZOFFSETTO:-0500
TZNAME:EST
DTSTART:20191103T060000
END:STANDARD
END:VTIMEZONE
BEGIN:VEVENT
DTSTART;TZID=America/New_York:20181009T120000
DTEND;TZID=America/New_York:20181009T150000
DTSTAMP:20260424T133840
CREATED:20180928T205616Z
LAST-MODIFIED:20180928T205616Z
UID:27957-1539086400-1539097200@careers.hgv.com
SUMMARY:Orlando Call Center Sales Hiring Event
DESCRIPTION:  \nThink of it like a job fair but\, for one company and more personal. Career expos are a great way for us to fill many roles quickly. Hiring is a human process\, and we would like to meet you to see if you’re a fit! \n  \nDate of Event: 10/9/2018\, 10/10/2018\, 10/11/2018 and 10/12/2018 \nTitle of Event: Orlando Call Center Hiring Event \nTime of Event: 12:00 pm – 3:00 pm \nLocation & Address of Event: 1800 Metrowest Blvd\, Orlando\, Fl 32835 \n  \nThe entire process will be 1 hour and will consist of a presentation on the company and open positions. You will also have an opportunity to speak directly with a recruiter and schedule a face-to-face interview with a hiring manager. \nIf you are interested\, RSVP for this event. Please bring a copy of your resume with you to the event and professional dress is required. \nFor RSVP: Apply here or call (407) 342-8235 \n \n 
URL:https://careers.hgv.com/event/orlando-call-center-hiring-event-3/2018-10-09/
LOCATION:Hilton Grand Vacations Call Center\, 1800 Metrocenter Blvd\, Orlando\, FL\, 32835\, United States
GEO:28.519797;-81.469179
X-APPLE-STRUCTURED-LOCATION;VALUE=URI;X-ADDRESS=Hilton Grand Vacations Call Center 1800 Metrocenter Blvd Orlando FL 32835 United States;X-APPLE-RADIUS=500;X-TITLE=1800 Metrocenter Blvd:geo:-81.469179,28.519797
END:VEVENT
BEGIN:VEVENT
DTSTART;TZID=America/New_York:20181009T120000
DTEND;TZID=America/New_York:20181009T150000
DTSTAMP:20260424T133840
CREATED:20180928T205616Z
LAST-MODIFIED:20180928T205616Z
UID:31003-1539086400-1539097200@careers.hgv.com
SUMMARY:Orlando Call Center Sales Hiring Event
DESCRIPTION:  \nThink of it like a job fair but\, for one company and more personal. Career expos are a great way for us to fill many roles quickly. Hiring is a human process\, and we would like to meet you to see if you’re a fit! \n  \nDate of Event: 10/9/2018\, 10/10/2018\, 10/11/2018 and 10/12/2018 \nTitle of Event: Orlando Call Center Hiring Event \nTime of Event: 12:00 pm – 3:00 pm \nLocation & Address of Event: 1800 Metrowest Blvd\, Orlando\, Fl 32835 \n  \nThe entire process will be 1 hour and will consist of a presentation on the company and open positions. You will also have an opportunity to speak directly with a recruiter and schedule a face-to-face interview with a hiring manager. \nIf you are interested\, RSVP for this event. Please bring a copy of your resume with you to the event and professional dress is required. \nFor RSVP: Apply here or call (407) 342-8235 \n \n 
URL:https://careers.hgv.com/event/orlando-call-center-hiring-event-4/2018-10-09/
LOCATION:Hilton Grand Vacations Call Center\, 1800 Metrocenter Blvd\, Orlando\, FL\, 32835\, United States
GEO:28.519797;-81.469179
X-APPLE-STRUCTURED-LOCATION;VALUE=URI;X-ADDRESS=Hilton Grand Vacations Call Center 1800 Metrocenter Blvd Orlando FL 32835 United States;X-APPLE-RADIUS=500;X-TITLE=1800 Metrocenter Blvd:geo:-81.469179,28.519797
END:VEVENT
BEGIN:VEVENT
DTSTART;TZID=America/New_York:20180820T120000
DTEND;TZID=America/New_York:20180820T153000
DTSTAMP:20260424T133840
CREATED:20180815T164911Z
LAST-MODIFIED:20180815T164911Z
UID:11249-1534766400-1534779000@careers.hgv.com
SUMMARY:Call Center Hiring Event
DESCRIPTION:Hilton Grand Vacations Hiring Event – snacks\, refreshments and company swag provided! \n  \n\nWe will be holding interviews for the following positions:\nOutbound Vacation Sales Advisor\nInbound Vacation Sales Advisor \nWe will be hiring for the following location:\nHilton Grand Vacations Call Center\, 1800 Metrocenter Blvd\, Orlando\, FL 32835 \nRequirements\nHigh school diploma\nExperience working in a sales environment is preferred \nWhat is a Hiring Event?\nThink of it like a job fair\, but for one company and more personal. Hiring events are a great way for us to fill a large number of roles quickly. Hiring is a human process\, and we would like to meet you to see if you’re a fit! \nHow to prepare\nThe entire interview process will be 1 hr. Completing our online application prior to the event is strongly encouraged and will speed up the process. Please bring resume with you to the event. \nWhat to wear\nDress code is Business Casual (slacks\, button down\, optional tie). \nMore About the Role & Benefits \nIn this role\, you will work with our guests and Hilton Honors Members to sell vacation packages\, with the requirement that the family attend a Vacation Ownership preview tour and Vacation Ownership presentations. The ability to build rapport\, overcome obstacles\, meet sales goals and punctuality are vital to success as Vacation Sales Advisor.\nYou will enjoy working in a state-of-the-art call center with an energetic work-place environment\, as well as small daily bonuses rewarding sales achievements\, and quarterly awards for top performers. Our Team Members receive competitive pay\, excellent health\, vision and dental benefits\, recognition and incentives\, paid time off\, 401k\, and discounted hotel rates for family and friends. \nThrough inspired ownership\, continual evolution\, and a commitment to uphold the highest standards\, our Team Members feel proud\, our customers feel valued\, and every encounter feels simply grand. And that comes with grand opportunities for growth. \nJoin Our Talent Network to receive updates and information from our recruitment team.
URL:https://careers.hgv.com/event/call-center-hiring-event/2018-08-20/
LOCATION:Hilton Grand Vacations Call Center\, 1800 Metrocenter Blvd\, Orlando\, FL\, 32835\, United States
GEO:28.519797;-81.469179
X-APPLE-STRUCTURED-LOCATION;VALUE=URI;X-ADDRESS=Hilton Grand Vacations Call Center 1800 Metrocenter Blvd Orlando FL 32835 United States;X-APPLE-RADIUS=500;X-TITLE=1800 Metrocenter Blvd:geo:-81.469179,28.519797
END:VEVENT
BEGIN:VEVENT
DTSTART;TZID=America/New_York:20180820T120000
DTEND;TZID=America/New_York:20180820T153000
DTSTAMP:20260424T133840
CREATED:20180815T164911Z
LAST-MODIFIED:20180815T164911Z
UID:27951-1534766400-1534779000@careers.hgv.com
SUMMARY:Call Center Hiring Event
DESCRIPTION:Hilton Grand Vacations Hiring Event – snacks\, refreshments and company swag provided! \n  \n\nWe will be holding interviews for the following positions:\nOutbound Vacation Sales Advisor\nInbound Vacation Sales Advisor \nWe will be hiring for the following location:\nHilton Grand Vacations Call Center\, 1800 Metrocenter Blvd\, Orlando\, FL 32835 \nRequirements\nHigh school diploma\nExperience working in a sales environment is preferred \nWhat is a Hiring Event?\nThink of it like a job fair\, but for one company and more personal. Hiring events are a great way for us to fill a large number of roles quickly. Hiring is a human process\, and we would like to meet you to see if you’re a fit! \nHow to prepare\nThe entire interview process will be 1 hr. Completing our online application prior to the event is strongly encouraged and will speed up the process. Please bring resume with you to the event. \nWhat to wear\nDress code is Business Casual (slacks\, button down\, optional tie). \nMore About the Role & Benefits \nIn this role\, you will work with our guests and Hilton Honors Members to sell vacation packages\, with the requirement that the family attend a Vacation Ownership preview tour and Vacation Ownership presentations. The ability to build rapport\, overcome obstacles\, meet sales goals and punctuality are vital to success as Vacation Sales Advisor.\nYou will enjoy working in a state-of-the-art call center with an energetic work-place environment\, as well as small daily bonuses rewarding sales achievements\, and quarterly awards for top performers. Our Team Members receive competitive pay\, excellent health\, vision and dental benefits\, recognition and incentives\, paid time off\, 401k\, and discounted hotel rates for family and friends. \nThrough inspired ownership\, continual evolution\, and a commitment to uphold the highest standards\, our Team Members feel proud\, our customers feel valued\, and every encounter feels simply grand. And that comes with grand opportunities for growth. \nJoin Our Talent Network to receive updates and information from our recruitment team.
URL:https://careers.hgv.com/event/call-center-hiring-event-2/2018-08-20/
LOCATION:Hilton Grand Vacations Call Center\, 1800 Metrocenter Blvd\, Orlando\, FL\, 32835\, United States
GEO:28.519797;-81.469179
X-APPLE-STRUCTURED-LOCATION;VALUE=URI;X-ADDRESS=Hilton Grand Vacations Call Center 1800 Metrocenter Blvd Orlando FL 32835 United States;X-APPLE-RADIUS=500;X-TITLE=1800 Metrocenter Blvd:geo:-81.469179,28.519797
END:VEVENT
BEGIN:VEVENT
DTSTART;TZID=America/New_York:20180820T120000
DTEND;TZID=America/New_York:20180820T153000
DTSTAMP:20260424T133840
CREATED:20180815T164911Z
LAST-MODIFIED:20180815T164911Z
UID:30997-1534766400-1534779000@careers.hgv.com
SUMMARY:Call Center Hiring Event
DESCRIPTION:Hilton Grand Vacations Hiring Event – snacks\, refreshments and company swag provided! \n  \n\nWe will be holding interviews for the following positions:\nOutbound Vacation Sales Advisor\nInbound Vacation Sales Advisor \nWe will be hiring for the following location:\nHilton Grand Vacations Call Center\, 1800 Metrocenter Blvd\, Orlando\, FL 32835 \nRequirements\nHigh school diploma\nExperience working in a sales environment is preferred \nWhat is a Hiring Event?\nThink of it like a job fair\, but for one company and more personal. Hiring events are a great way for us to fill a large number of roles quickly. Hiring is a human process\, and we would like to meet you to see if you’re a fit! \nHow to prepare\nThe entire interview process will be 1 hr. Completing our online application prior to the event is strongly encouraged and will speed up the process. Please bring resume with you to the event. \nWhat to wear\nDress code is Business Casual (slacks\, button down\, optional tie). \nMore About the Role & Benefits \nIn this role\, you will work with our guests and Hilton Honors Members to sell vacation packages\, with the requirement that the family attend a Vacation Ownership preview tour and Vacation Ownership presentations. The ability to build rapport\, overcome obstacles\, meet sales goals and punctuality are vital to success as Vacation Sales Advisor.\nYou will enjoy working in a state-of-the-art call center with an energetic work-place environment\, as well as small daily bonuses rewarding sales achievements\, and quarterly awards for top performers. Our Team Members receive competitive pay\, excellent health\, vision and dental benefits\, recognition and incentives\, paid time off\, 401k\, and discounted hotel rates for family and friends. \nThrough inspired ownership\, continual evolution\, and a commitment to uphold the highest standards\, our Team Members feel proud\, our customers feel valued\, and every encounter feels simply grand. And that comes with grand opportunities for growth. \nJoin Our Talent Network to receive updates and information from our recruitment team.
URL:https://careers.hgv.com/event/call-center-hiring-event-3/2018-08-20/
LOCATION:Hilton Grand Vacations Call Center\, 1800 Metrocenter Blvd\, Orlando\, FL\, 32835\, United States
GEO:28.519797;-81.469179
X-APPLE-STRUCTURED-LOCATION;VALUE=URI;X-ADDRESS=Hilton Grand Vacations Call Center 1800 Metrocenter Blvd Orlando FL 32835 United States;X-APPLE-RADIUS=500;X-TITLE=1800 Metrocenter Blvd:geo:-81.469179,28.519797
END:VEVENT
END:VCALENDAR