BEGIN:VCALENDAR
VERSION:2.0
PRODID:-//Live - HGV Careers - ECPv6.15.12.2//NONSGML v1.0//EN
CALSCALE:GREGORIAN
METHOD:PUBLISH
X-WR-CALNAME:Live - HGV Careers
X-ORIGINAL-URL:https://careers.hgv.com
X-WR-CALDESC:Events for Live - HGV Careers
REFRESH-INTERVAL;VALUE=DURATION:PT1H
X-Robots-Tag:noindex
X-PUBLISHED-TTL:PT1H
BEGIN:VTIMEZONE
TZID:Pacific/Honolulu
BEGIN:STANDARD
TZOFFSETFROM:-1000
TZOFFSETTO:-1000
TZNAME:HST
DTSTART:20230101T000000
END:STANDARD
END:VTIMEZONE
BEGIN:VEVENT
DTSTART;TZID=Pacific/Honolulu:20240807T100000
DTEND;TZID=Pacific/Honolulu:20240807T160000
DTSTAMP:20260423T145349
CREATED:20240725T195531Z
LAST-MODIFIED:20240725T195531Z
UID:35540-1723024800-1723046400@careers.hgv.com
SUMMARY:Oahu Hiring Event
DESCRIPTION:Hilton Grand Vacations is Hiring in Honolulu! \nBe part of the engine that builds vacation dreams for our guests while building an empowering career with a worldwide leader in vacation ownership. \nStop by to talk to our recruiters and hiring managers! \n1st Floor (Restaurant and Pool Level) Sales Gallery \n1775 Ala Moana Blvd. \nHonolulu\, HI 96815 \n\n*Validation will be provided for self-parking in The Modern parking structure. \nPlease RSVP from HERE or send your resume to HawaiiCareers@hgvc.com. \n  \nAvailable Opportunities: \nSales Executive Action Line \nSales Gallery Coordinator – Modern \nSales Gallery Coordinator – Lagoon Tower \nLead Sales Gallery Coordinator \nQuality Assurance Specialist \nBilingual Marketing Concierge (Japanese/English) \nBilingual In House Marketing Concierge (Japanese/English) \nBilingual Marketing Representative Off Property Contact (Japanese/English) \nIn House Marketing Concierge \nMarketing Concierge \nMarketing Representative – Off Property Contact \nMarketing Greeter \nMarketing Representative Non-Owner Pre-Arrival \nMarketing Tours Coordinator \nFront Office Manager \nHousekeeping Manager \nBell Attendant On-Call \nGuest Experience Agent On-Call \nAnd MORE! \nCheck out hgv.com/careers for more opportunities! \nWe offer an excellent benefit package to our full-time Team Members that include medical\, dental and vision insurance\, 401K plan\, Paid Time Off (PTO) program and extraordinary travel benefits! To learn about our industry’s leading benefits\, visit yourbenefitresources.com/hgv and select “Considering a job at HGV?”.
URL:https://careers.hgv.com/event/oahu-hiring-event-2/
LOCATION:The Modern\, A Hilton Vacation Club\, 1775 Ala Moana Blvd\, Honolulu\, Hawaii\, 96815\, United States
END:VEVENT
BEGIN:VEVENT
DTSTART;TZID=Pacific/Honolulu:20240823T100000
DTEND;TZID=Pacific/Honolulu:20240823T160000
DTSTAMP:20260423T145349
CREATED:20240725T200751Z
LAST-MODIFIED:20240725T223339Z
UID:35547-1724407200-1724428800@careers.hgv.com
SUMMARY:The Point at Poipu Hiring Event
DESCRIPTION:Hilton Grand Vacations is Hiring in Koloa! \nBe part of the engine that builds vacation dreams for our guests while building an empowering career with a worldwide leader in vacation ownership. \nStop by to talk to our recruiters and hiring managers! \nYou can RSVP here\, or send your resume to HawaiiCareers@hgvc.com. \nAvailable Opportunities: \nSales Executive \nMarketing Concierge \nResort Coordinator \nFront Desk Agent \nHousekeeping \nMaintenance \nAnd MORE! \nCheck out hgv.com/careers for more opportunities! \nWe offer an excellent benefit package to our full-time Team Members that include medical\, dental and vision insurance\, 401K plan\, Paid Time Off (PTO) program and extraordinary travel benefits! To learn about our industry’s leading benefits\, visit yourbenefitresources.com/hgv and select “Considering a Job at HGV?”. 
URL:https://careers.hgv.com/event/the-point-at-poipu-hiring-event-4/
LOCATION:Hilton Grand Vacations Club The Point at Poipu\, 1613 Pe’e Rd.\, Koloa\, HI\, 96756\, United States
END:VEVENT
BEGIN:VEVENT
DTSTART;TZID=Pacific/Honolulu:20240829T100000
DTEND;TZID=Pacific/Honolulu:20240829T160000
DTSTAMP:20260423T145349
CREATED:20240814T135640Z
LAST-MODIFIED:20240814T135640Z
UID:35566-1724925600-1724947200@careers.hgv.com
SUMMARY:Waikoloa Hiring Event
DESCRIPTION:Hilton Grand Vacations is Hiring in Waikōloa! \nBe part of the engine that builds vacation dreams for our guests while building an empowering career with a worldwide leader in vacation ownership. \nStop by to talk to our recruiters and hiring managers! \nPlease RSVP here or send your resume to HawaiiCareers@hgvc.com. \nAvailable Opportunities: \nMarketing Training Manager \nCoordinator Sales Gallery \nSales Executive Action Line \nHR Business Partner Specialist \nMarketing Representative – Off Property Contact \nMarketing Concierge \nLead Marketing Concierge \nPT Grill Cook \nPT Recreation Coordinator \nSupervisor Housekeeping \nHousekeeper \nHouseperson \nFront Desk Agent \nBellperson & Shuttle Driver \nAnd MORE! \nCheck out hgv.com/careers for more opportunities! \nWe offer an excellent benefit package to our full-time Team Members that include medical\, dental and vision insurance\, 401K plan\, Paid Time Off (PTO) program and extraordinary travel benefits! To learn about our industry’s leading benefits\, visit yourbenefitresources.com/hgv and select “Considering a job at HGV?”.
URL:https://careers.hgv.com/event/waikoloa-hiring-event-11/
LOCATION:Hilton Grand Vacations Club Kings’ Land\, 69-538 Waikōloa Beach Drive\, Waikōloa Village\, 96738
END:VEVENT
END:VCALENDAR