BEGIN:VCALENDAR
VERSION:2.0
PRODID:-//Live - HGV Careers - ECPv6.15.12.2//NONSGML v1.0//EN
CALSCALE:GREGORIAN
METHOD:PUBLISH
X-WR-CALNAME:Live - HGV Careers
X-ORIGINAL-URL:https://careers.hgv.com
X-WR-CALDESC:Events for Live - HGV Careers
REFRESH-INTERVAL;VALUE=DURATION:PT1H
X-Robots-Tag:noindex
X-PUBLISHED-TTL:PT1H
BEGIN:VTIMEZONE
TZID:UTC
BEGIN:STANDARD
TZOFFSETFROM:+0000
TZOFFSETTO:+0000
TZNAME:UTC
DTSTART:20230101T000000
END:STANDARD
END:VTIMEZONE
BEGIN:VEVENT
DTSTART;TZID=UTC:20240509T100000
DTEND;TZID=UTC:20240509T160000
DTSTAMP:20260424T115835
CREATED:20240502T145813Z
LAST-MODIFIED:20240502T145932Z
UID:35337-1715248800-1715270400@careers.hgv.com
SUMMARY:Oahu Hiring Event
DESCRIPTION:Thursday\, May 9\, 2024\n10:00 am – 4:00 pm \nThe Modern 1st Floor\n(Restaurant and Pool Level) Sales Gallery\n1775 Ala Moana Blvd\, Honolulu\, HI 96815 \n\nRSVP here.
URL:https://careers.hgv.com/event/oahu-hiring-event/
LOCATION:Nevada
END:VEVENT
BEGIN:VEVENT
DTSTART;TZID=UTC:20240523T100000
DTEND;TZID=UTC:20240523T150000
DTSTAMP:20260424T115835
CREATED:20240515T205314Z
LAST-MODIFIED:20240515T205314Z
UID:35399-1716458400-1716476400@careers.hgv.com
SUMMARY:Lahaina Hiring Event
DESCRIPTION:Thursday\, May 23\, 2024\n10:00 am – 3:00 pm HST \nKa’anapali Beach Club (Preview Room)\n104 Ka’anapali Shores Place\nLahaina\, Hawaii\, 96761 \n\nRSVP here.
URL:https://careers.hgv.com/event/lahaina-hiring-event-3/
LOCATION:Nevada
END:VEVENT
END:VCALENDAR