BEGIN:VCALENDAR
VERSION:2.0
PRODID:-//Live - HGV Careers - ECPv6.15.12.2//NONSGML v1.0//EN
CALSCALE:GREGORIAN
METHOD:PUBLISH
X-ORIGINAL-URL:https://careers.hgv.com
X-WR-CALDESC:Events for Live - HGV Careers
REFRESH-INTERVAL;VALUE=DURATION:PT1H
X-Robots-Tag:noindex
X-PUBLISHED-TTL:PT1H
BEGIN:VTIMEZONE
TZID:UTC
BEGIN:STANDARD
TZOFFSETFROM:+0000
TZOFFSETTO:+0000
TZNAME:UTC
DTSTART:20230101T000000
END:STANDARD
END:VTIMEZONE
BEGIN:VEVENT
DTSTART;TZID=UTC:20240424T090000
DTEND;TZID=UTC:20240424T160000
DTSTAMP:20260425T074336
CREATED:20240417T195148Z
LAST-MODIFIED:20240417T195218Z
UID:35296-1713949200-1713974400@careers.hgv.com
SUMMARY:Sales Professional Hiring Event April 24\, 2024
DESCRIPTION:Call center sales hiring event to support our Call Transfer and Outbound departments \nSales Professional Hiring Event April 24th\, 2024 \nLocation: 6355 Metrowest Blvd\, Suite 180 \nDay One Benefits! \nCall Transfer Interview times:\n9:00AM to 10:00AM\n10:00AM to 11:00AM\n11:00AM to 12:00PM \nOutbound Sales Agent Interview times:\n1:00PM to 2:00PM\n2:00PM to 3:00PM\n3:00PM to 4:00PM \nAttendees will participate in on-site interviews for open positions\, we are currently staffing for: \nCall Transfer Sales Agent: As a Call Transfer Sales Agent you will address the customer in a professional and welcoming manner\, clarify the specifics and advantages of the heavily discounted getaway package\, answer questions\, and discuss objections using our sales approach. Your primary goal as a call transfer agent is to qualify our callers and sell our highly discounted vacation packages to preview our luxurious resorts. These tours are created to promote our breathtaking resorts\, which offer the customer the possibility of building lasting memories with vacation ownership. \nOutbound Sales Agent will sell highly discounted vacation packages to our Hilton Honor Members and guests that are excited to travel once again. Our innovative contact system connects you to a new guest approximately every 90 seconds while working onsite. Hilton Grand Vacations now has over 2 million highly qualified leads\, setting up great success for our Sales Advisors.
URL:https://careers.hgv.com/event/sales-professional-hiring-event-april-24-2024/
LOCATION:Nevada
END:VEVENT
BEGIN:VEVENT
DTSTART;TZID=UTC:20240424T100000
DTEND;TZID=UTC:20240424T150000
DTSTAMP:20260425T074336
CREATED:20240422T163512Z
LAST-MODIFIED:20240422T163512Z
UID:35301-1713952800-1713970800@careers.hgv.com
SUMMARY:Call Center Hiring Event
DESCRIPTION:Join Our Team!  \nHiring Event April 24th\nTime: 10:00AM- 3:00PM\nLocation: 5555 Badura Ave\, Las Vegas NV 89118\nDay One Benefits! \nAttendees will participate in on-site interviews for open positions\, we are currently staffing for: \nInbound Call Transfer Sales Agent: As a Call Transfer Sales Agent you will address the customer in a professional and welcoming manner\, clarify the specifics and advantages of the heavily discounted getaway package\, answer questions\, and discuss objections using our sales approach. Your primary goal as a call transfer agent is to qualify our callers and sell our highly discounted vacation packages to preview our luxurious resorts. These tours are created to promote our breathtaking resorts\, which offer the customer the possibility of building lasting memories with vacation ownership.\nWhy do Team Members like working for us: \nHGV now offers Day One Team Member Benefits\nCompetitive base pay plus monthly performance incentive.\nGenerous Paid Vacation Day Program\nDiscounted Hilton hotel rates worldwide\nPaid Sick Days\nRecognition Programs and Rewards\n401(k) program with company match\nEmployee stock purchase program\nAnnual International Customer Service Week Celebration\nTuition reimbursement programs\nNumerous learning and advancement opportunities\nBusiness Casual attire\nConsistent day-to-day responsibilities
URL:https://careers.hgv.com/event/call-center-hiring-event-4/
LOCATION:Nevada
END:VEVENT
BEGIN:VEVENT
DTSTART;TZID=UTC:20240424T100000
DTEND;TZID=UTC:20240424T160000
DTSTAMP:20260425T074336
CREATED:20240416T062356Z
LAST-MODIFIED:20240417T041926Z
UID:35287-1713952800-1713974400@careers.hgv.com
SUMMARY:Waikoloa Hiring Event
DESCRIPTION:Wednesday\, April 24\, 2024\, from 10:00 am – 4:00 pm \nLocation: Hilton Grand Vacations Club Kings’ Land\nConference Room (located in the Operations Center)\n69-538 Waikōloa Beach Drive\nWaikōloa Village\, Hawaii\, 96738 \n*Free onsite parking is available. \nRSVP here
URL:https://careers.hgv.com/event/waikoloa-hiring-event-9/
LOCATION:Nevada
END:VEVENT
END:VCALENDAR