BEGIN:VCALENDAR
VERSION:2.0
PRODID:-//Live - HGV Careers - ECPv6.15.12.2//NONSGML v1.0//EN
CALSCALE:GREGORIAN
METHOD:PUBLISH
X-ORIGINAL-URL:https://careers.hgv.com
X-WR-CALDESC:Events for Live - HGV Careers
REFRESH-INTERVAL;VALUE=DURATION:PT1H
X-Robots-Tag:noindex
X-PUBLISHED-TTL:PT1H
BEGIN:VTIMEZONE
TZID:UTC
BEGIN:STANDARD
TZOFFSETFROM:+0000
TZOFFSETTO:+0000
TZNAME:UTC
DTSTART:20230101T000000
END:STANDARD
END:VTIMEZONE
BEGIN:VEVENT
DTSTART;TZID=UTC:20240221T090000
DTEND;TZID=UTC:20240221T160000
DTSTAMP:20260425T194236
CREATED:20240212T165027Z
LAST-MODIFIED:20240212T165107Z
UID:35041-1708506000-1708531200@careers.hgv.com
SUMMARY:Call Center Sales Hiring Event
DESCRIPTION:Call center sales hiring event to support our Call Transfer and Outbound departments \nSales Professional Hiring Event February 21\, 2024 \nLocation: 6355 Metrowest Blvd\, Suite 180 \nDay One Benefits! \nCall Transfer Interview times:\n9:00AM to 10:00AM\n10:00AM to 11:00AM\n11:00AM to 12:00PM \nOutbound Sales Agent Interview times:\n1:00PM to 2:00PM\n2:00PM to 3:00PM\n3:00PM to 4:00PM \nAttendees will participate in on-site interviews for open positions\, we are currently staffing for: \nCall Transfer Sales Agent: As a Call Transfer Sales Agent you will address the customer in a professional and welcoming manner\, clarify the specifics and advantages of the heavily discounted getaway package\, answer questions\, and discuss objections using our sales approach. Your primary goal as a call transfer agent is to qualify our callers and sell our highly discounted vacation packages to preview our luxurious resorts. These tours are created to promote our breathtaking resorts\, which offer the customer the possibility of building lasting memories with vacation ownership. \nOutbound Sales Agent will sell highly discounted vacation packages to our Hilton Honor Members and guests that are excited to travel once again. Our innovative contact system connects you to a new guest approximately every 90 seconds while working onsite. Hilton Grand Vacations now has over 2 million highly qualified leads\, setting up great success for our Sales Advisors.
URL:https://careers.hgv.com/event/call-center-sales-hiring-event/
LOCATION:Nevada
END:VEVENT
END:VCALENDAR